BEGIN:VCALENDAR
PRODID:-//eluceo/ical//2.0/EN
VERSION:2.0
CALSCALE:GREGORIAN
BEGIN:VEVENT
UID:3810c1ba93025bf5b0df1370d246c32b
DTSTAMP:20260422T183109Z
SUMMARY:Shabbat Together: LGBTQ Family Meal and Shabbat Celebration
DESCRIPTION:UJA Federation of Greater Toronto\nJewish Toronto Calendar\nhtt
 ps://jewishtoronto.com/calendar/shabbat-together-lgbtq-family-meal-and-sha
 bbat-celebration-1476668356\n\nA relaxed\, soulful\, and playful LGBTQ fam
 ily Shabbat experience. With Holy Blossom Temple and First Narayever Congr
 egation.\n5:30 pm: Services (free attendance for Services only).\nServices
  led by David Gershon\, of Judy &amp\; David.\n6:00 pm: Dinner. $10/adult\
 ; $5/child\; babes in arms are free. 
DTSTART;TZID=America/Toronto:20161104T173000
DTEND;TZID=America/Toronto:20161104T203000
END:VEVENT
END:VCALENDAR
