BEGIN:VCALENDAR
PRODID:-//eluceo/ical//2.0/EN
VERSION:2.0
CALSCALE:GREGORIAN
BEGIN:VEVENT
UID:e4bbc4bb922c3112cf625b19fb5a61fc
DTSTAMP:20260422T012530Z
SUMMARY:Shabbat Shirah Havdalah of Hope and Song
DESCRIPTION:UJA Federation of Greater Toronto\nJewish Toronto Calendar\nhtt
 ps://jewishtoronto.com/calendar/shabbat-shirah-havdalah-of-hope-and-song-1
 610395203\n\nCome together with members of Beth Tzedec and B&#039\;nai Tor
 ah (of Boca Raton\, FL) for a meaningful and personal Havdalah service on 
 Zoom. After\, join Cantor Sidney Ezer from Beth Tzedec and Cantor Magda Fi
 shman from B&rsquo\;nai Torah as both congregations connect to conclude Sh
 abbat and sing songs of hope and perseverance.\n\nIn keeping with current 
 Public Health safety protocols\, this concert will be livestreamed to Beth
  Tzedec&#039\;s Facebook and Youtube pages and available on Zoom. \n\nPlea
 se register...
DTSTART;TZID=America/Toronto:20210130T193000
DTEND;TZID=America/Toronto:20210130T210000
END:VEVENT
END:VCALENDAR
