BEGIN:VCALENDAR
PRODID:-//eluceo/ical//2.0/EN
VERSION:2.0
CALSCALE:GREGORIAN
BEGIN:VEVENT
UID:d8f09d14217c11f4ef65977483fb7cdf
DTSTAMP:20260423T145830Z
SUMMARY:Shabbat Shirah Community Concert: The Honey and the Sting
DESCRIPTION:UJA Federation of Greater Toronto\nJewish Toronto Calendar\nhtt
 ps://jewishtoronto.com/calendar/shabbat-shirah-community-concert-the-honey
 -and-the-sting-1515009520\n\nBeth Tzedec Congregation\, Tarbut Toronto and
  the Israeli Connection at Miles Nadal JCC present a concert of 70 years o
 f Israeli music including Naomi Shemer classics performed by The Quartet w
 ith Cantor Sidney Ezer and UJA Federation's Shinshinim.\n\nTickets: $25 ad
 vance\; $30 at the door
DTSTART;TZID=America/Toronto:20180127T200000
DTEND;TZID=America/Toronto:20180127T220000
END:VEVENT
END:VCALENDAR
