BEGIN:VCALENDAR
PRODID:-//eluceo/ical//2.0/EN
VERSION:2.0
CALSCALE:GREGORIAN
BEGIN:VEVENT
UID:8d0949056a802846e29acb2a23d49d7a
DTSTAMP:20260424T184235Z
SUMMARY:Shabbat SERVICES + DINNER
DESCRIPTION:UJA Federation of Greater Toronto\nJewish Toronto Calendar\nhtt
 ps://jewishtoronto.com/calendar/shabbat-services--dinner-1522092068\n\nCel
 ebrate Shabbat with spirit! Wind down from the week and welcome Shabbat wi
 th soulful\, song-filled services\, in which everyone can participate.Afte
 r services\, we’ll enjoy a delicious\, catered vegan Shabbat dinner toge
 ther.\n\nMakom is a proud participant in the Synagogue Vegan Challenge\, i
 n which the Shamayim V’Aretz Institute for Animal Welfare and VegFund ar
 e subsidizing our all-vegan food for 5778.\n\nMakom is a diverse and inclu
 sive community that welcomes participants who espouse m...
DTSTART;TZID=America/Toronto:20180427T180000
DTEND;TZID=America/Toronto:20180427T210000
END:VEVENT
END:VCALENDAR
