BEGIN:VCALENDAR
PRODID:-//eluceo/ical//2.0/EN
VERSION:2.0
CALSCALE:GREGORIAN
BEGIN:VEVENT
UID:33574951b59ab9215f490dbe44098a71
DTSTAMP:20260423T003131Z
SUMMARY:Shabbat Service and Dinner with Aviva Chernick
DESCRIPTION:UJA Federation of Greater Toronto\nJewish Toronto Calendar\nhtt
 ps://jewishtoronto.com/calendar/shabbat-service-and-dinner-with-aviva-cher
 nick-1577741591\n\nFollowing a musically-infused Shabbat at the Floor Serv
 ice\, join us for a delicious dinner with artist-in-residence Aviva Cherni
 ck leading us in communal singing. Cost for dinner: $40 adults\; $18 youth
  (ages 5-14)\; $6 kids (ages 1-4). RSVPs required by Monday\, February 3. 
DTSTART;TZID=America/Toronto:20200207T180000
DTEND;TZID=America/Toronto:20200207T210000
END:VEVENT
END:VCALENDAR
