BEGIN:VCALENDAR
PRODID:-//eluceo/ical//2.0/EN
VERSION:2.0
CALSCALE:GREGORIAN
BEGIN:VEVENT
UID:7a1357bb939fef45bbe658babce368fa
DTSTAMP:20260423T044049Z
SUMMARY:Shabbat Scholar Weekend with Rabbi Professor David Golinkin
DESCRIPTION:UJA Federation of Greater Toronto\nJewish Toronto Calendar\nhtt
 ps://jewishtoronto.com/calendar/shabbat-scholar-weekend-with-rabbi-profess
 or-david-golinkin-1715950694\n\nBeth Tzedec is pleased to welcome Rabbi Pr
 ofessor David Golikin\, President of The Schechter Institutes and Presiden
 t Emeritus of the Schechter Institute of Jewish Studies\, for a Shabbat sc
 holar weekend. As part of his weekend presentations\, he will join us on F
 riday evening for our Kabbalat Shabbat Service followed by a catered Shabb
 at dinner where he will give a presentation on "Israel at 75: A 50 Year Re
 trospective".  \n\nCost for dinner. Registration required by Tuesday\, May
  21 at 11:00...
DTSTART;TZID=America/Toronto:20240524T180000
DTEND;TZID=America/Toronto:20240524T210000
END:VEVENT
END:VCALENDAR
