BEGIN:VCALENDAR
PRODID:-//eluceo/ical//2.0/EN
VERSION:2.0
CALSCALE:GREGORIAN
BEGIN:VEVENT
UID:611381d659622694de2f3b59be5c13f9
DTSTAMP:20260425T132116Z
SUMMARY:Shabbat Project - Beth Tikvah Synagogue
DESCRIPTION:UJA Federation of Greater Toronto\nJewish Toronto Calendar\nhtt
 ps://jewishtoronto.com/calendar/shabbat-project---beth-tikvah-synagogue-14
 78197471\n\nJoin us for Shabbat services followed by a Kiddush lunch.Lectu
 re by guest Scholar-in-Residence\, Rabbi Avi Feingold.“Confessions of a 
 Food Baal Teshuvah: Reflections On Eating and Thinking Jewishly”Rabbi Av
 i Finegold is the Founder and Lead Educator of the Jewish Learning Lab\, a
 n adult education  centre in Montreal. In honour of the Shabbat Project.
DTSTART;TZID=America/Toronto:20161112T090000
DTEND;TZID=America/Toronto:20161112T140000
END:VEVENT
END:VCALENDAR
