BEGIN:VCALENDAR
PRODID:-//eluceo/ical//2.0/EN
VERSION:2.0
CALSCALE:GREGORIAN
BEGIN:VEVENT
UID:4727cba10787036a32eca1aa4efacb9d
DTSTAMP:20260421T234234Z
SUMMARY:Shabbat on Tuesday: A Musical Kumzitz
DESCRIPTION:UJA Federation of Greater Toronto\nJewish Toronto Calendar\nhtt
 ps://jewishtoronto.com/calendar/shabbat-on-tuesday-a-musical-kumzitz-15747
 04114\n\nJoin Cantor Sidney Ezer\, Choir Director Ezra Burke and Yacov Fru
 chter on the third Tuesday of each month at 8:00 PM for an uplifting sing-
 along highlighting familiar and less familiar melodies that will be featur
 ed at Shabbat at the Floor and Shabbat/Festival morning services. 
DTSTART;TZID=America/Toronto:20191217T200000
DTEND;TZID=America/Toronto:20191217T210000
END:VEVENT
END:VCALENDAR
