BEGIN:VCALENDAR
PRODID:-//eluceo/ical//2.0/EN
VERSION:2.0
CALSCALE:GREGORIAN
BEGIN:VEVENT
UID:61b639821e75ace7e0496da6217d05bf
DTSTAMP:20260422T131740Z
SUMMARY:Shabbat Morning Torah Study with Guest Teacher\, Rabbi Don Splansky
DESCRIPTION:UJA Federation of Greater Toronto\nJewish Toronto Calendar\nhtt
 ps://jewishtoronto.com/calendar/shabbat-morning-torah-study-with-guest-tea
 cher-rabbi-don-splansky-1681414120\n\nShabbat Emor\, 5783. In celebration 
 of Rabbi Yael Splansky’s 25 years with Holy Blossom Temple\, the ORIGINA
 L Rabbi Splansky returns to teach his Torah. Rabbi Don Splansky\, Ph.D. is
  the Rabbi Emeritus of Temple Beth Am in Framingham\, Massachusetts. Hybri
 d - online and in person options.Together we’ll study the weekly Torah p
 ortion\, and its corresponding commentaries\, both ancient and modern and 
 discover their eternal relevance. Experienced students are valued for thei
 r accumulations of know...
DTSTART;TZID=America/Toronto:20230506T090000
DTEND;TZID=America/Toronto:20230506T100000
END:VEVENT
END:VCALENDAR
