BEGIN:VCALENDAR
PRODID:-//eluceo/ical//2.0/EN
VERSION:2.0
CALSCALE:GREGORIAN
BEGIN:VEVENT
UID:854a927773d9541a220c0e44c8ae4ce3
DTSTAMP:20260421T104920Z
SUMMARY:Shabbat Morning Fun
DESCRIPTION:UJA Federation of Greater Toronto\nJewish Toronto Calendar\nhtt
 ps://jewishtoronto.com/calendar/shabbat-morning-fun-1694026310\n\nJoin us 
 for a children's Shabbat experience that builds Jewish knowledge and commu
 nity. 9:30 a.m. — Free Shabbat play10:30 a.m. — Age appropriate Tefill
 ah/prayer experiences\, participation permitting. With special guests like
  our shinshinim to tell us about life in Israel\, and other guests as well
 .11:30 a.m. — Blessings and snacks Children ages 3 and younger require a
 dult accompaniment\, those ages 4 and up can be dropped off.
DTSTART;TZID=America/Toronto:20230909T093000
DTEND;TZID=America/Toronto:20230909T120000
END:VEVENT
END:VCALENDAR
