BEGIN:VCALENDAR
PRODID:-//eluceo/ical//2.0/EN
VERSION:2.0
CALSCALE:GREGORIAN
BEGIN:VEVENT
UID:9146f38cdf851ff5cdc60f1301b6e060
DTSTAMP:20260424T132118Z
SUMMARY:Shabbat Itanu at Temple Sinai
DESCRIPTION:UJA Federation of Greater Toronto\nJewish Toronto Calendar\nhtt
 ps://jewishtoronto.com/calendar/shabbat-itanu-at-temple-sinai-1490813065\n
 \nEach year the Toronto Jewish community recognizes the importance of incl
 usion with Shabbat Itanu. We pride ourselves at Temple Sinai as a spiritua
 l home for one and all. Our speakers for Shabbat Itanu this year will be o
 ur members Deborah & David Cooper. They will speak about establishing Eli
 ’s Place\, a residential treatment centre for young adults with serious 
 mental illness. Their family’s journey is one of courage and strength. J
 oin us for this special Shabbat of learning and support.
DTSTART;TZID=America/Toronto:20170429T100000
DTEND;TZID=America/Toronto:20170429T120000
END:VEVENT
END:VCALENDAR
