BEGIN:VCALENDAR
PRODID:-//eluceo/ical//2.0/EN
VERSION:2.0
CALSCALE:GREGORIAN
BEGIN:VEVENT
UID:5bdd1443128940db75c6bcca919d4c34
DTSTAMP:20260424T094031Z
SUMMARY:Shabbat Itanu
DESCRIPTION:UJA Federation of Greater Toronto\nJewish Toronto Calendar\nhtt
 ps://jewishtoronto.com/calendar/shabbat-itanu-1551458327\n\nTaking place a
 t synagogues across the GTA
DTSTART;TZID=America/Toronto:20190510T180000
DTEND;TZID=America/Toronto:20190511T210000
END:VEVENT
END:VCALENDAR
