BEGIN:VCALENDAR
PRODID:-//eluceo/ical//2.0/EN
VERSION:2.0
CALSCALE:GREGORIAN
BEGIN:VEVENT
UID:ee4e4b29d6b1dc48e74ee40b12922c8b
DTSTAMP:20260422T053533Z
SUMMARY:Shabbat ITANU
DESCRIPTION:UJA Federation of Greater Toronto\nJewish Toronto Calendar\nhtt
 ps://jewishtoronto.com/calendar/shabbat-itanu-1479919066\n\nThis event run
 s from sundown on Friday to sundown on Saturday 
DTSTART;TZID=America/Toronto:20170505T170000
DTEND;TZID=America/Toronto:20170506T170000
END:VEVENT
END:VCALENDAR
