BEGIN:VCALENDAR
PRODID:-//eluceo/ical//2.0/EN
VERSION:2.0
CALSCALE:GREGORIAN
BEGIN:VEVENT
UID:95e9a53bfe3f66198f97ba8acacd6f63
DTSTAMP:20260425T202208Z
SUMMARY:Shabbat in the Park
DESCRIPTION:UJA Federation of Greater Toronto\nJewish Toronto Calendar\nhtt
 ps://jewishtoronto.com/calendar/shabbat-in-the-park-1499444726\n\nAt Vermo
 nt Square Park\nFamilies with children ages 0-4 can join MNjcc's Kohenet A
 nnie Matan in slowing down and celebrating Shabbat and the world around us
  with song\, stories\, and silliness. Adults are welcome to join their chi
 ldren or enjoy some Adult learning with Makom's Rabbi Aaron Levy.
DTSTART;TZID=America/Toronto:20170729T163000
DTEND;TZID=America/Toronto:20170729T200000
END:VEVENT
END:VCALENDAR
