BEGIN:VCALENDAR
PRODID:-//eluceo/ical//2.0/EN
VERSION:2.0
CALSCALE:GREGORIAN
BEGIN:VEVENT
UID:3f36865eb522fd37a930afda372671da
DTSTAMP:20260422T160610Z
SUMMARY:Shabbat in Song
DESCRIPTION:UJA Federation of Greater Toronto\nJewish Toronto Calendar\nhtt
 ps://jewishtoronto.com/calendar/shabbat-in-song-1494605888\n\nCelebrate Sh
 abbat and enjoy a concert in Hebrew\, Yiddish and English with popular mus
 ician Yitzhak Argaman. 
DTSTART;TZID=America/Toronto:20170602T130000
DTEND;TZID=America/Toronto:20170602T150000
END:VEVENT
END:VCALENDAR
