BEGIN:VCALENDAR
PRODID:-//eluceo/ical//2.0/EN
VERSION:2.0
CALSCALE:GREGORIAN
BEGIN:VEVENT
UID:4c6033837f42ad8149ecae0bfa6327e7
DTSTAMP:20260420T062242Z
SUMMARY:Shabbat Dinner with Rabbi David Hoffman and Bill Lipsy at Adath Isr
 ael
DESCRIPTION:UJA Federation of Greater Toronto\nJewish Toronto Calendar\nhtt
 ps://jewishtoronto.com/calendar/shabbat-dinner-with-rabbi-david-hoffman-an
 d-bill-lipsy-at-adath-israel-1742563882\n\nRabbi David Hoffman is the Pres
 ident of the Honey Foundation for Israel. Before joining the Foundation\, 
 he served as Vice Chancellor at JTS and was a member of the Talmud faculty
  for 22 years.\n\nBill Lipsey is a founder of Pzena Investment Management\
 , where he now serves as Principal and Vice Chairman. Nine years ago\, he 
 and his wife\, Amy\, established the Honey Foundation for Israel\, where h
 e now serves as Chairman of the Board.
DTSTART;TZID=America/Toronto:20250328T190000
DTEND;TZID=America/Toronto:20250328T210000
END:VEVENT
END:VCALENDAR
