BEGIN:VCALENDAR
PRODID:-//eluceo/ical//2.0/EN
VERSION:2.0
CALSCALE:GREGORIAN
BEGIN:VEVENT
UID:b5609c96f2880f6069428d6407b8f2a3
DTSTAMP:20260419T162850Z
SUMMARY:Shabbat Dinner
DESCRIPTION:UJA Federation of Greater Toronto\nJewish Toronto Calendar\nhtt
 ps://jewishtoronto.com/calendar/shabbat-dinner-1511203267\n\nKosher Konnec
 t aims to enrich Toronto's yiddishkeit experience for young professionals 
 and students. The committee will like to invite you for our upcoming Shabb
 at Dinner\,\n\nDate: Friday\, December 1\nTime: 8:30\nLocation: B'nai Tora
 h\, 465 Patricia Ave.\nCost: $15.00\nIn respect of Shabbat\, accommodation
 s are available to avoid driving.\n\nPlease RSVP in advance\, Friends are 
 welcome Help Spread the word!\n\nRSVP at:\nhttps://ucentre.formstack.com/f
 orms/kosher_konnect\n\nCommittee: Barry Sereb...
DTSTART;TZID=America/Toronto:20171201T203000
DTEND;TZID=America/Toronto:20171202T000000
END:VEVENT
END:VCALENDAR
