BEGIN:VCALENDAR
PRODID:-//eluceo/ical//2.0/EN
VERSION:2.0
CALSCALE:GREGORIAN
BEGIN:VEVENT
UID:c9c6dac18cf0ac1c5837803e9e8b58c4
DTSTAMP:20260419T193853Z
SUMMARY:Shabbat Chol HaMoed at The Song Shul
DESCRIPTION:UJA Federation of Greater Toronto\nJewish Toronto Calendar\nhtt
 ps://jewishtoronto.com/calendar/shabbat-chol-hamoed-at-the-song-shul-15705
 59682\n\nShabbat Chol HaMoed at The Song Shul\nThe Song Shul's first Shabb
 at of the New Year back at Bialik. Featuring Cantor Spiro and the Toronto 
 Festival Singers\, a capella davening-in-the-round\, Starbucks coffee loun
 ge\, Torah Bubble Parade & Music Miniyan for the kids\nEveryone welcome\n\
 n 
DTSTART;TZID=America/Toronto:20191019T090000
DTEND;TZID=America/Toronto:20191019T113000
END:VEVENT
END:VCALENDAR
