BEGIN:VCALENDAR
PRODID:-//eluceo/ical//2.0/EN
VERSION:2.0
CALSCALE:GREGORIAN
BEGIN:VEVENT
UID:0ad3fa5768a3eb8f3efb73d7c016aee6
DTSTAMP:20260421T205910Z
SUMMARY:Shabbat at The Song Shul
DESCRIPTION:UJA Federation of Greater Toronto\nJewish Toronto Calendar\nhtt
 ps://jewishtoronto.com/calendar/shabbat-at-the-song-shul-1537191296\n\nThe
  Song Shul's Renowned Shabbat Service\nRethink Shabbat. The Song Shul's mu
 sical morning service begins at 9:00 AM with world renowned Cantor Simon S
 piro and The Toronto Festival Singers\, the finest synagogue choir in Nort
 h America. A fabulous a cappella davening-in-the-round\, Starbucks coffee 
 lounge\, Torah bubble parade for the kiddies\, delicious Kiddush\, and mor
 e!\nEveryone welcome.
DTSTART;TZID=America/Toronto:20180929T090000
DTEND;TZID=America/Toronto:20180929T113000
END:VEVENT
END:VCALENDAR
