BEGIN:VCALENDAR
PRODID:-//eluceo/ical//2.0/EN
VERSION:2.0
CALSCALE:GREGORIAN
BEGIN:VEVENT
UID:195199294ae707c9a3fd6a2288b178fc
DTSTAMP:20260422T073011Z
SUMMARY:Shabbat at the Floor Service
DESCRIPTION:UJA Federation of Greater Toronto\nJewish Toronto Calendar\nhtt
 ps://jewishtoronto.com/calendar/shabbat-at-the-floor-service-1643643577\n\
 nJoin us for our monthly high-energy Shabbat at the Floor Service\, with
  Cantor Sidney Ezer\, Yacov Fruchter and Aviva Chernick. Prepare your spir
 it for Shabbat with song\, comfort and community.  This service will begin
  with Ashrei and Kaddish prior to Kabbalat Shabbat.\n\nBeth Tzedec&#039\;s
  Friday evening services are offered for in-person participation or via li
 vestream at https://www.beth-tzedec.org/page/live. In-person participants 
 must provide proof of full vaccination to access Beth Tzedec&#039\;s...
DTSTART;TZID=America/Toronto:20220204T180000
DTEND;TZID=America/Toronto:20220204T191500
END:VEVENT
END:VCALENDAR
