BEGIN:VCALENDAR
PRODID:-//eluceo/ical//2.0/EN
VERSION:2.0
CALSCALE:GREGORIAN
BEGIN:VEVENT
UID:3f7b0b689959bf7b4bf9b89ced341db1
DTSTAMP:20260419T233515Z
SUMMARY:Shabbat at the Floor Service
DESCRIPTION:UJA Federation of Greater Toronto\nJewish Toronto Calendar\nhtt
 ps://jewishtoronto.com/calendar/shabbat-at-the-floor-service-1640278130\n\
 nPlease join us for our monthly high-energy Shabbat at the Floor Service
 \, with Cantor Sidney Ezer\, Yacov Fruchter and Aviva Chernick. Prepare yo
 ur spirit for Shabbat with song\, comfort and community Minhah.  This serv
 ice will begin with Ashrei and Mourner's Kaddish prior Kabbalat Shabbat.  
 The full Minhah service will be recited via Zoom at 5:35 p.m. \n\nYou may 
 attend this service in-person or by livestream.  No registration is requir
 ed.  Proof of full vaccination is required\, either by...
DTSTART;TZID=America/Toronto:20220107T180000
DTEND;TZID=America/Toronto:20220107T191000
END:VEVENT
END:VCALENDAR
