BEGIN:VCALENDAR
PRODID:-//eluceo/ical//2.0/EN
VERSION:2.0
CALSCALE:GREGORIAN
BEGIN:VEVENT
UID:7f54774513fca28a538fc6e77cf96bdf
DTSTAMP:20260420T072113Z
SUMMARY:Shabbat as a Mindfulness Teaching with Aviva Chernick
DESCRIPTION:UJA Federation of Greater Toronto\nJewish Toronto Calendar\nhtt
 ps://jewishtoronto.com/calendar/shabbat-as-a-mindfulness-teaching-with-avi
 va-chernick-1640276963\n\nA Noon Hour Meditation Series\n\nJoin artist-in-
 residence Aviva Chernick for this new opportunity to discover meditation a
 nd prepare to welcome Shabbat. Together we will explore ways that Shabbat 
 can be a teacher for us\, learning about pausing for rest but also for awa
 reness. This is an intro to meditation course and all levels of experience
  are welcome. This program will be offered via Zoom. Pre-registration requ
 ired to access the Zoom link information.
DTSTART;TZID=America/Toronto:20220107T120000
DTEND;TZID=America/Toronto:20220107T124500
END:VEVENT
END:VCALENDAR
