BEGIN:VCALENDAR
PRODID:-//eluceo/ical//2.0/EN
VERSION:2.0
CALSCALE:GREGORIAN
BEGIN:VEVENT
UID:3b0e8b2f444eea6b913638de9f568037
DTSTAMP:20260426T003204Z
SUMMARY:Shabbat Across North America (Canada) with Guest speaker Susan Jack
 son
DESCRIPTION:UJA Federation of Greater Toronto\nJewish Toronto Calendar\nhtt
 ps://jewishtoronto.com/calendar/shabbat-across-north-america-canada\n\nAdu
 lts $30 - Children 12 & under $20\nEvent purchase by Tuesday March 10th on
 ly.\n 
DTSTART;TZID=America/Toronto:20150313T180000
DTEND;TZID=America/Toronto:20150313T210000
END:VEVENT
END:VCALENDAR
