BEGIN:VCALENDAR
PRODID:-//eluceo/ical//2.0/EN
VERSION:2.0
CALSCALE:GREGORIAN
BEGIN:VEVENT
UID:49426e71230205f44c7bd7dc004766e1
DTSTAMP:20260425T215451Z
SUMMARY:Shaarei Shomayim YP Comedy Night with Eli Lebowicz
DESCRIPTION:UJA Federation of Greater Toronto\nJewish Toronto Calendar\nhtt
 ps://jewishtoronto.com/calendar/shaarei-shomayim-yp-comedy-night-with-eli-
 lebowicz-1515693500\n\nEnjoy a fun night out and the comedy stylings of Ne
 w York comic Eli Lebowitcz!\nEntertainment includes pizza buffet and drink
 s
DTSTART;TZID=America/Toronto:20180303T200000
DTEND;TZID=America/Toronto:20180303T220000
END:VEVENT
END:VCALENDAR
