BEGIN:VCALENDAR
PRODID:-//eluceo/ical//2.0/EN
VERSION:2.0
CALSCALE:GREGORIAN
BEGIN:VEVENT
UID:18972557bf1e5b919d047cfbd9093c56
DTSTAMP:20260421T152547Z
SUMMARY:Shaarei Shomayim Congregation's 90th Anniversary Gala Dinner
DESCRIPTION:UJA Federation of Greater Toronto\nJewish Toronto Calendar\nhtt
 ps://jewishtoronto.com/calendar/shaarei-shomayim-congregations-90th-annive
 rsary-gala-dinner-1549645487\n\nDetails TBD.
DTSTART;TZID=America/Toronto:20191205T180000
DTEND;TZID=America/Toronto:20191205T220000
END:VEVENT
END:VCALENDAR
