BEGIN:VCALENDAR
PRODID:-//eluceo/ical//2.0/EN
VERSION:2.0
CALSCALE:GREGORIAN
BEGIN:VEVENT
UID:176a7afa6f9a406cbc7d563c19078de7
DTSTAMP:20260424T112629Z
SUMMARY:Shaarei Shomayim Congregation Summer History Series: Paul Michaels
DESCRIPTION:UJA Federation of Greater Toronto\nJewish Toronto Calendar\nhtt
 ps://jewishtoronto.com/calendar/shaarei-shomayim-congregation-summer-histo
 ry-series-paul-michaels\n\nLecture by Paul Michaels\nIsrael: Who Are Its F
 riends\, Who Are Its Foes?\n\nWe will discuss: Iran as Israel’s greatest
  threat in Syria and in Lebanon\, and its support of Islamic Jihad in Gaza
 \; Russia’s role as supportive of both Israel and Iran\; Iran’s “Shi
 a Crescent” stretching from Iraq to the Mediterranean vs. the Sunni Arab
  states\; Egypt and Jordan\, both of whom rely on Israel for strategic int
 elligence\; and hostility from Turkey - what does its “peace treaty” w
 ith Israel mean?...
DTSTART;TZID=America/Toronto:20180822T193000
DTEND;TZID=America/Toronto:20180822T210000
END:VEVENT
END:VCALENDAR
