BEGIN:VCALENDAR
PRODID:-//eluceo/ical//2.0/EN
VERSION:2.0
CALSCALE:GREGORIAN
BEGIN:VEVENT
UID:a6594dbb883645c07fe666eef58d4da6
DTSTAMP:20260422T121210Z
SUMMARY:Shaare Zedek's Annual on the Slopes for Candy
DESCRIPTION:UJA Federation of Greater Toronto\nJewish Toronto Calendar\nhtt
 ps://jewishtoronto.com/calendar/shaare-zedek-s-annual-on-the-slopes-for-ca
 ndy\n\nA fun-filled day of skiing and snowboarding\; guests will be driven
  on a luxury coach to Collingwood where there will be complimentary lesson
 s and races\, and a kosher buffet breakfast and lunch. The cost of a ticke
 t is $165 and is set to increase to $195 after January 31st. Proceeds from
  the event will go towards the Neonatal Intensive Care Unit at Shaare Zede
 k Medical Center in Jerusalem.
DTSTART;TZID=America/Toronto:20140226T090000
DTEND;TZID=America/Toronto:20140226T170000
END:VEVENT
END:VCALENDAR
