BEGIN:VCALENDAR
PRODID:-//eluceo/ical//2.0/EN
VERSION:2.0
CALSCALE:GREGORIAN
BEGIN:VEVENT
UID:066de13348007487c300850f1ea1f3ec
DTSTAMP:20260423T234201Z
SUMMARY:Shaar Shalom Synagogue - Inter-Generational Hamentaschen Making
DESCRIPTION:UJA Federation of Greater Toronto\nJewish Toronto Calendar\nhtt
 ps://jewishtoronto.com/calendar/shaar-shalom-synagogue-inter-generational-
 hamentaschen-making\n\n"Inter-Generational Hamentaschen Making" - 2 Simon
 ston Blvd\, Thornhill\n\nJoin us on Sunday\, March 20th at 2:00 pm for uni
 que Hamentaschen making with new techniques and interesting fillings! $5 f
 or members - $10 for Non-Members.
DTSTART;TZID=America/Toronto:20160320T140000
DTEND;TZID=America/Toronto:20160320T160000
END:VEVENT
END:VCALENDAR
