BEGIN:VCALENDAR
PRODID:-//eluceo/ical//2.0/EN
VERSION:2.0
CALSCALE:GREGORIAN
BEGIN:VEVENT
UID:8619bae5ef5a4076a8fe726168989bc4
DTSTAMP:20260422T050527Z
SUMMARY:Shaar Shalom Singles 50+ "Thanks for the Memories" Dance
DESCRIPTION:UJA Federation of Greater Toronto\nJewish Toronto Calendar\nhtt
 ps://jewishtoronto.com/calendar/shaar-shalom-singles-50-thanks-for-the-mem
 ories-dance-1465944082\n\nPlease join the Shaar Shalom Singles 50+ for our
  final program : "Thanks for the Memories" Dance. Help us to celebrate 17 
 years of providing events for the Jewish Singles 50+ in the GTA before our
  shul closes at the end of June. Dave Jones\, our favourite DJ\, will play
  music for your dancing and listening pleasure. Thanks for the Memories an
 d for all your support of our efforts to serve you.
DTSTART;TZID=America/Toronto:20160626T193000
DTEND;TZID=America/Toronto:20160626T230000
END:VEVENT
END:VCALENDAR
