BEGIN:VCALENDAR
PRODID:-//eluceo/ical//2.0/EN
VERSION:2.0
CALSCALE:GREGORIAN
BEGIN:VEVENT
UID:5b9b41613cce86502309c29035a03020
DTSTAMP:20260422T023441Z
SUMMARY:Shaar Shalom Bridge Program Lessons Begin
DESCRIPTION:UJA Federation of Greater Toronto\nJewish Toronto Calendar\nhtt
 ps://jewishtoronto.com/calendar/shaar-shalom-bridge-program-lessons-begin\
 n\nBridge Program Lessons begin at 12:30 followed by play at 1:30
DTSTART;TZID=America/Toronto:20140217T123000
DTEND;TZID=America/Toronto:20140217T133000
END:VEVENT
END:VCALENDAR
