BEGIN:VCALENDAR
PRODID:-//eluceo/ical//2.0/EN
VERSION:2.0
CALSCALE:GREGORIAN
BEGIN:VEVENT
UID:494eb7e07490ec2c50d169b8c75006f3
DTSTAMP:20260419T131833Z
SUMMARY:Shaar Shalom Book Club reviews "The Betrayers" by David Bezmozgis
DESCRIPTION:UJA Federation of Greater Toronto\nJewish Toronto Calendar\nhtt
 ps://jewishtoronto.com/calendar/shaar-shalom-book-club-reviews-the-betraye
 rs-by-david-bezmozgis\n\nShaar Shalom Book Club reviews "The Betrayers" by
  David Bezmozgis - Thursday\, March 17th at 2:00 pm - 2 Simonston Blvd\, 
 Thornhill\n\nJoin or group of dedicated readers for free and share your op
 inions and views on this amazing book!
DTSTART;TZID=America/Toronto:20160317T140000
DTEND;TZID=America/Toronto:20160317T160000
END:VEVENT
END:VCALENDAR
