BEGIN:VCALENDAR
PRODID:-//eluceo/ical//2.0/EN
VERSION:2.0
CALSCALE:GREGORIAN
BEGIN:VEVENT
UID:afcb1ab01ec7e77e6fc4d015d75da6d8
DTSTAMP:20260423T172231Z
SUMMARY:Setting the Record Straight: Knowing & Refuting Common Anti-Israel 
 Claims
DESCRIPTION:UJA Federation of Greater Toronto\nJewish Toronto Calendar\nhtt
 ps://jewishtoronto.com/calendar/setting-the-record-straight-knowing--refut
 ing-common-anti-israel-claims-1702584053\n\nA discussion led by Robert Wal
 ker\, Assistant Director of HonestReporting Canada
DTSTART;TZID=America/Toronto:20240116T190000
DTEND;TZID=America/Toronto:20240116T210000
END:VEVENT
END:VCALENDAR
