BEGIN:VCALENDAR
PRODID:-//eluceo/ical//2.0/EN
VERSION:2.0
CALSCALE:GREGORIAN
BEGIN:VEVENT
UID:4e8755d072faf961558db7f663fd9c92
DTSTAMP:20260420T185217Z
SUMMARY:Serving for Sinai - volleyball tournament
DESCRIPTION:UJA Federation of Greater Toronto\nJewish Toronto Calendar\nhtt
 ps://jewishtoronto.com/calendar/serving-for-sinai-volleyball-tournament\n\
 nJoin us for Serving for Sinai\, an all-day co-ed "Battle of the Business
 " volleyball tournament and networking event in support of the Lunenfeld-T
 anenbaum Research Institute\, part of Sinai Health System.\n\nOver 300 pla
 yers will come together to compete in an all-day co-ed volleyball tourname
 nt for the chance to inscribe their team name on the S4S champion’s trop
 hy.\n\nYoung professionals will represent their companies across three div
 isions: \n1. RioCan Real Estate Division\n2. Vice Media...
DTSTART;TZID=America/Toronto:20170326T100000
DTEND;TZID=America/Toronto:20170326T150000
END:VEVENT
END:VCALENDAR
