BEGIN:VCALENDAR
PRODID:-//eluceo/ical//2.0/EN
VERSION:2.0
CALSCALE:GREGORIAN
BEGIN:VEVENT
UID:23281d4708eee344010b44deb9dde224
DTSTAMP:20260422T181643Z
SUMMARY:Sense of Ward Walking Tour  - Sunday\, September 27\, 2015
DESCRIPTION:UJA Federation of Greater Toronto\nJewish Toronto Calendar\nhtt
 ps://jewishtoronto.com/calendar/sense-of-ward-walking-tour-sunday-septembe
 r-27-2015\n\nThe Ward Walking Tour\n\nSunday\, September 27\n\n2:00 - 3:30
 pm\n\nTour Guides: John Lorinc and Ellen Scheinberg\n\nExplore immigrant h
 ousing and social support in the early 20th century through the sites of T
 he Ward\, Toronto’s first immigrant neighbourhood.\n\nFREE\n\nTOUR BEGIN
 S at Nathan Phillips Square\n\nWith the Ontario Jewish Archives\, Blankens
 tein Family Heritage Centre\, MNjcc\, and Kehilla Residential Programme’
 s Sukkahville. \n\nInfo: sharonis@mnjcc.org\; 416-924-6211  x154
DTSTART;TZID=America/Toronto:20150927T140000
DTEND;TZID=America/Toronto:20150927T235959
END:VEVENT
END:VCALENDAR
