BEGIN:VCALENDAR
PRODID:-//eluceo/ical//2.0/EN
VERSION:2.0
CALSCALE:GREGORIAN
BEGIN:VEVENT
UID:d9c7eb59ddd7bc1a8478ff4f4e27a276
DTSTAMP:20260419T232949Z
SUMMARY:Seniors Active Living Fair
DESCRIPTION:UJA Federation of Greater Toronto\nJewish Toronto Calendar\nhtt
 ps://jewishtoronto.com/calendar/seniors-active-living-fair-1769649254\n\nC
 onnect with local agencies\, health practitioners\, senior service provide
 rs\, and community services! Includes a trade show\, information seminars\
 , demos\, refreshments and more! This event is hosted by the Bernard Betel
  Centre in partnership with the Older Adult Centres’ Association of Onta
 rio and sponsored by the Ministry for Seniors and Accessibility.\n\nFree 
 – For Everyone. Drop in. No registration required.\nFor more information
 \, contact Charm John at 416-225-2112\, ext. 105 or charmj@be...
DTSTART;TZID=America/Toronto:20260311T100000
DTEND;TZID=America/Toronto:20260311T140000
END:VEVENT
END:VCALENDAR
