BEGIN:VCALENDAR
PRODID:-//eluceo/ical//2.0/EN
VERSION:2.0
CALSCALE:GREGORIAN
BEGIN:VEVENT
UID:462011300264ea749cbeda9dadf64cd4
DTSTAMP:20260422T171532Z
SUMMARY:Senator David A. Croll Memorial Wellness Lecture
DESCRIPTION:UJA Federation of Greater Toronto\nJewish Toronto Calendar\nhtt
 ps://jewishtoronto.com/calendar/senator-david-a-croll-memorial-wellness-le
 cture-1741206673\n\n“Maintaining Cognitive Health and Managing Stress wi
 th Aging”\nSpeaker: Danielle D’Amico\, PhD\, Postdoctoral Fellow\, Rot
 man Research Institute\, Kimel Family Centre for Brain Health & Wellness\,
  Baycrest Academy for Research and Education.\n\nFree – For Everyone. Dr
 op-in. No registration required.\n\nThis event is sponsored by Senator Dav
 id A. Croll Memorial Fund at the Jewish Foundation of Greater Toronto UJA 
 Federation of Greater Toronto
DTSTART;TZID=America/Toronto:20250507T133000
DTEND;TZID=America/Toronto:20250507T150000
END:VEVENT
END:VCALENDAR
