BEGIN:VCALENDAR
PRODID:-//eluceo/ical//2.0/EN
VERSION:2.0
CALSCALE:GREGORIAN
BEGIN:VEVENT
UID:79ed6c2168852e779b09dbaba427461d
DTSTAMP:20260423T031612Z
SUMMARY:Selihot with "Shtisel"
DESCRIPTION:UJA Federation of Greater Toronto\nJewish Toronto Calendar\nhtt
 ps://jewishtoronto.com/calendar/selihot-with-shtisel-1565541745\n\nJoin Be
 th Tzedec and Beth Torah Congregations for a special program with stars fr
 om the hit Israeli TV program "Shtisel".\n\nMake this year’s Selihot cel
 ebration extra special by joining us as we welcome the cast and creator of
  Shtisel\, the hit Israeli television program\, to Beth Tzedec.\n\nFollowi
 ng Havdalah\, join us for a special program with stars from the hit Israel
 i TV program Shtisel. We will be welcoming Ori Elon (show creator)\, Neta 
 Riskin (Giti Weiss)\, Dov Glickman (Shulem...
DTSTART;TZID=America/Toronto:20190921T210000
DTEND;TZID=America/Toronto:20190921T230000
END:VEVENT
END:VCALENDAR
