BEGIN:VCALENDAR
PRODID:-//eluceo/ical//2.0/EN
VERSION:2.0
CALSCALE:GREGORIAN
BEGIN:VEVENT
UID:6fc4d5433bba58db9ee2f57baee25eac
DTSTAMP:20260421T105531Z
SUMMARY:Seeking the Fabled City
DESCRIPTION:UJA Federation of Greater Toronto\nJewish Toronto Calendar\nhtt
 ps://jewishtoronto.com/calendar/seeking-the-fabled-city-1539375239\n\nSeek
 ing the Fabled City: The Canadian Jewish Experience in Perspective with Al
 lan Levine\n\nAward-winning historian and author Allan Levine discusses hi
 s latest book\, providing an examination of key lessons\, trends and patte
 rns of the 250 years of the Jewish experience in Canada.
DTSTART;TZID=America/Toronto:20181113T193000
DTEND;TZID=America/Toronto:20181113T213000
END:VEVENT
END:VCALENDAR
