BEGIN:VCALENDAR
PRODID:-//eluceo/ical//2.0/EN
VERSION:2.0
CALSCALE:GREGORIAN
BEGIN:VEVENT
UID:766a19fd78b589b8c5c9ba64649c2311
DTSTAMP:20260424T160144Z
SUMMARY:Security on Israel’s Border: A Conversation with Lt. Col. (Res.) 
 Zehavi
DESCRIPTION:UJA Federation of Greater Toronto\nJewish Toronto Calendar\nhtt
 ps://jewishtoronto.com/calendar/security-on-israels-border-a-conversation-
 with-lt-col-res-zehavi-1669045679\n\nTemple Sinai: Security on Israel’s 
 Border: A Conversation with Lt. Col. (Res.) Sarit Zehavi (IN-PERSON) Sunda
 y\, December 4 at 11.00 a.m.Join us as we meet with IDF Lt. Col. (Res.) Sa
 rit Zehavi\, founder and director of the Alma Centre for Research and Educ
 ation\, who will address the issues faced by Israeli residents in the Gali
 lee and the Golan Heights.We’ll be discussing the current security chall
 enges and the newly signed maritime border agreement with Lebanon.There wi
 ll be an opportunit...
DTSTART;TZID=America/Toronto:20221204T110000
DTEND;TZID=America/Toronto:20221204T120000
END:VEVENT
END:VCALENDAR
