BEGIN:VCALENDAR
PRODID:-//eluceo/ical//2.0/EN
VERSION:2.0
CALSCALE:GREGORIAN
BEGIN:VEVENT
UID:9ba296a48a1bf1e32ab87aa1070f18e6
DTSTAMP:20260419T220818Z
SUMMARY:Secrets of Successful Dating
DESCRIPTION:UJA Federation of Greater Toronto\nJewish Toronto Calendar\nhtt
 ps://jewishtoronto.com/calendar/secrets-of-successful-dating-1520223714\n\
 n"The secrets of successful dating & How to find your soulmate"\nLecture w
 ith Wine & Cheese Buffet.\n\nPresented by Shaya Rose\nTrained and certifie
 d as a relationship coach by the world renown relationship expert\, Dr. Jo
 hn Gray\, author of Men are from Mars\, Women are from Venus.
DTSTART;TZID=America/Toronto:20180310T203000
DTEND;TZID=America/Toronto:20180310T220000
END:VEVENT
END:VCALENDAR
