BEGIN:VCALENDAR
PRODID:-//eluceo/ical//2.0/EN
VERSION:2.0
CALSCALE:GREGORIAN
BEGIN:VEVENT
UID:2dda186aa95b47e0c5ddcd3182aae101
DTSTAMP:20260422T214340Z
SUMMARY:Second Night Seder at Lodzer Centre
DESCRIPTION:UJA Federation of Greater Toronto\nJewish Toronto Calendar\nhtt
 ps://jewishtoronto.com/calendar/second-night-seder-at-lodzer-centre-173583
 4181\n\nFull Kosher for Passover dinner including wine\n\n\nHaggadah Chant
 ing!\nSongs! Fun! Family!\n$100 per person\n\n\nIf interested contact Judy
  Hazan at judyhazan@gmail.com
DTSTART;TZID=America/Toronto:20250413T170000
DTEND;TZID=America/Toronto:20250413T190000
END:VEVENT
END:VCALENDAR
