BEGIN:VCALENDAR
PRODID:-//eluceo/ical//2.0/EN
VERSION:2.0
CALSCALE:GREGORIAN
BEGIN:VEVENT
UID:71e931e7217649a867a7c880565ff3c8
DTSTAMP:20260420T070021Z
SUMMARY:Schwartz/Reisman Centre Purim Community Celebration
DESCRIPTION:UJA Federation of Greater Toronto\nJewish Toronto Calendar\nhtt
 ps://jewishtoronto.com/calendar/schwartzreisman-centre-purim-community-cel
 ebration\n\nSchwartz/Reisman Centre Purim Community Celebration
DTSTART;TZID=America/Toronto:20150308T133000
DTEND;TZID=America/Toronto:20150308T153000
END:VEVENT
END:VCALENDAR
