BEGIN:VCALENDAR
PRODID:-//eluceo/ical//2.0/EN
VERSION:2.0
CALSCALE:GREGORIAN
BEGIN:VEVENT
UID:993734c16e2e8a01aa2edb7d2630aec4
DTSTAMP:20260424T180406Z
SUMMARY:Schwartz/Reisman Centre "Hearts of Tango" documentary presentation
DESCRIPTION:UJA Federation of Greater Toronto\nJewish Toronto Calendar\nhtt
 ps://jewishtoronto.com/calendar/schwartzreisman-centre-hearts-of-tango-doc
 umentary-presentation\n\nHEARTS of TANGO is a documentary film produced in
  Toronto\, Canada. It describes the "tanguero" landscape of the city\,
  giving voice to different players of the local scene\, who share their 
 passion for this multicultural expression of life. It includes students a
 nd instructors\, musicians\, DJ's\, performance dancers\, "Milongas"[1]\,
  and special events organizers. Searching for answers to what the Tango me
 ans to them\, the documentary asks: What is its universal attraction? What
  awakens them ...
DTSTART;TZID=America/Toronto:20150328T190000
DTEND;TZID=America/Toronto:20150328T220000
END:VEVENT
END:VCALENDAR
