BEGIN:VCALENDAR
PRODID:-//eluceo/ical//2.0/EN
VERSION:2.0
CALSCALE:GREGORIAN
BEGIN:VEVENT
UID:372b0c25023616d83ef988754e50bb08
DTSTAMP:20260423T182850Z
SUMMARY:Schwartz/Reisman Centre - Culinary Workshop with Molly Yeh
DESCRIPTION:UJA Federation of Greater Toronto\nJewish Toronto Calendar\nhtt
 ps://jewishtoronto.com/calendar/schwartzreisman-centre-culinary-workshop-w
 ith-molly-yeh\n\nMolly’s blog\, My Name is Yeh\, earned the prestigious 
 title of Blog of the Year at the 2015 Saveur Blog Awards\, and with over 2
 00\,000 followers on Instagram\, there is little doubt that Molly Yeh is o
 ne of today’s trendiest culinary figures.\n\nMolly’s recipes are influ
 enced by her Jewish and Chinese heritage\, her time spent in New York and 
 traveling abroad to Israel and Europe\, and her new Midwestern farm life. 
 She will demonstrate several of her most unique dishes\, including:\n\nSpi
 nach...
DTSTART;TZID=America/Toronto:20170202T190000
DTEND;TZID=America/Toronto:20170202T213000
END:VEVENT
END:VCALENDAR
