BEGIN:VCALENDAR
PRODID:-//eluceo/ical//2.0/EN
VERSION:2.0
CALSCALE:GREGORIAN
BEGIN:VEVENT
UID:f12e017bde77530bcd0e74f85aacccec
DTSTAMP:20260422T134425Z
SUMMARY:Schwartz/Reisman Centre 45th Annual Rikkudyaih
DESCRIPTION:UJA Federation of Greater Toronto\nJewish Toronto Calendar\nhtt
 ps://jewishtoronto.com/calendar/schwartzreisman-centre-45th-annual-rikkudy
 aih\n\nSchwartz/Reisman Centre 45th Annual Rikkudyaih
DTSTART;TZID=America/Toronto:20150419T140000
DTEND;TZID=America/Toronto:20150419T170000
END:VEVENT
END:VCALENDAR
