BEGIN:VCALENDAR
PRODID:-//eluceo/ical//2.0/EN
VERSION:2.0
CALSCALE:GREGORIAN
BEGIN:VEVENT
UID:5f7bf04ef7c756598b4402b9097daa0c
DTSTAMP:20260425T013155Z
SUMMARY:Save a Child's Heart UnGala - "Best of the Best"
DESCRIPTION:UJA Federation of Greater Toronto\nJewish Toronto Calendar\nhtt
 ps://jewishtoronto.com/calendar/save-a-childs-heart-ungala---best-of-the-b
 est-1637937668\n\nThe Save a Child's Heart signature (in-person) UnGala ev
 ent is back! This year's theme is "Best of the Best" and we can't wait to 
 have you join us.
DTSTART;TZID=America/Toronto:20220525T180000
DTEND;TZID=America/Toronto:20220525T220000
END:VEVENT
END:VCALENDAR
