BEGIN:VCALENDAR
PRODID:-//eluceo/ical//2.0/EN
VERSION:2.0
CALSCALE:GREGORIAN
BEGIN:VEVENT
UID:a483cb5465a4f0014dcbc0d52b972a5c
DTSTAMP:20260420T222800Z
SUMMARY:Save a Child’s Heart Sings Kids Concert and Carnival
DESCRIPTION:UJA Federation of Greater Toronto\nJewish Toronto Calendar\nhtt
 ps://jewishtoronto.com/calendar/save-a-childs-heart-sings-kids-concert-and
 -carnival\n\n10:00-11:00 – Pre Show CARNIVAL featuring: Face painting\, 
 balloon twisting\, magician\, Spin Master PlayZone and much much more!\n11
 :00-12:00-Performance by SPLASH ‘N BOOTS!\nwww.saveachildsheart.ca
DTSTART;TZID=America/Toronto:20150222T100000
DTEND;TZID=America/Toronto:20150222T120000
END:VEVENT
END:VCALENDAR
