BEGIN:VCALENDAR
PRODID:-//eluceo/ical//2.0/EN
VERSION:2.0
CALSCALE:GREGORIAN
BEGIN:VEVENT
UID:908cfeac73bb426b5e91b4b58fa78de0
DTSTAMP:20260423T201647Z
SUMMARY:Save a Child's Heart Sings Featuring Splash'N Boots
DESCRIPTION:UJA Federation of Greater Toronto\nJewish Toronto Calendar\nhtt
 ps://jewishtoronto.com/calendar/save-a-childs-heart-sings-featuring-splash
 n-boots-1481575284\n\nSave a Child's Heart Sings is an annual children's c
 oncert in support of Save a Child's Heart Foundation\; Featuring Treehouse
  TV's biggest hit\, Splash'N Boots! Stay tuned for ticket information.
DTSTART;TZID=America/Toronto:20170326T100000
DTEND;TZID=America/Toronto:20170326T120000
END:VEVENT
END:VCALENDAR
