BEGIN:VCALENDAR
PRODID:-//eluceo/ical//2.0/EN
VERSION:2.0
CALSCALE:GREGORIAN
BEGIN:VEVENT
UID:c49f3609e5ddae25f80d8eb5e4ce6da7
DTSTAMP:20260422T113247Z
SUMMARY:Save a Child's Heart Sings Children's Concert
DESCRIPTION:UJA Federation of Greater Toronto\nJewish Toronto Calendar\nhtt
 ps://jewishtoronto.com/calendar/save-a-childs-heart-sings-childrens-concer
 t-1508937921\n\nJoin us as we dance and sing with Treehouse TVs very own\,
  Splash'N Boots!\nDon't miss out on the amazing pre show games and excitin
 g raffle prizes.\nTickets will go on sale in January 2018.\nStay tuned.
DTSTART;TZID=America/Toronto:20180429T100000
DTEND;TZID=America/Toronto:20180429T120000
END:VEVENT
END:VCALENDAR
