BEGIN:VCALENDAR
PRODID:-//eluceo/ical//2.0/EN
VERSION:2.0
CALSCALE:GREGORIAN
BEGIN:VEVENT
UID:a9312f9ebcb0559f098015b0c9447127
DTSTAMP:20260424T085851Z
SUMMARY:Samantha Flannigan Memorial Golf Tournament 
DESCRIPTION:UJA Federation of Greater Toronto\nJewish Toronto Calendar\nhtt
 ps://jewishtoronto.com/calendar/samantha-flannigan-memorial-golf-tournamen
 t\n\nThe seventh annual Samantha Flannigan Memorial Golf Tournament in sup
 port of Sarcoma Research at Mount Sinai Hospital. 
DTSTART;TZID=America/Toronto:20150814T090000
DTEND;TZID=America/Toronto:20150814T170000
END:VEVENT
END:VCALENDAR
